BEGIN:VCALENDAR
VERSION:2.0
PRODID:-//Plainfield Democratic Town Committee - ECPv6.15.18//NONSGML v1.0//EN
CALSCALE:GREGORIAN
METHOD:PUBLISH
X-ORIGINAL-URL:https://plainfieldctdems.org
X-WR-CALDESC:Events for Plainfield Democratic Town Committee
REFRESH-INTERVAL;VALUE=DURATION:PT1H
X-Robots-Tag:noindex
X-PUBLISHED-TTL:PT1H
BEGIN:VTIMEZONE
TZID:America/New_York
BEGIN:DAYLIGHT
TZOFFSETFROM:-0500
TZOFFSETTO:-0400
TZNAME:EDT
DTSTART:20250309T070000
END:DAYLIGHT
BEGIN:STANDARD
TZOFFSETFROM:-0400
TZOFFSETTO:-0500
TZNAME:EST
DTSTART:20251102T060000
END:STANDARD
BEGIN:DAYLIGHT
TZOFFSETFROM:-0500
TZOFFSETTO:-0400
TZNAME:EDT
DTSTART:20260308T070000
END:DAYLIGHT
BEGIN:STANDARD
TZOFFSETFROM:-0400
TZOFFSETTO:-0500
TZNAME:EST
DTSTART:20261101T060000
END:STANDARD
BEGIN:DAYLIGHT
TZOFFSETFROM:-0500
TZOFFSETTO:-0400
TZNAME:EDT
DTSTART:20270314T070000
END:DAYLIGHT
BEGIN:STANDARD
TZOFFSETFROM:-0400
TZOFFSETTO:-0500
TZNAME:EST
DTSTART:20271107T060000
END:STANDARD
END:VTIMEZONE
BEGIN:VEVENT
DTSTART;TZID=America/New_York:20260330T190000
DTEND;TZID=America/New_York:20260330T210000
DTSTAMP:20260421T010113
CREATED:20260330T062011Z
LAST-MODIFIED:20260330T062011Z
UID:7482-1774897200-1774904400@plainfieldctdems.org
SUMMARY:Special Board of Selectmen
DESCRIPTION:Agenda:\n1. Call to Order and Pledge of Allegiance\n2. Roll Call\n3. Approve meeting minutes from Special BOS meeting on 2/4/26 and BOS meeting 3/9/26\n4. Public Comment\n5. Discuss American Legion Ambulance fiscal request for 2026-27 budget\n6. Discuss and act on Procurement Policy\n7. Discuss and act on Capital Strategic Planning Committee guidance\n8. Consider and act on tax refunds totaling $12\,918.05\n9. Discuss Capital Improvement Policy\n10. Discuss Capital Non-recurring fund policy\n11. Discuss Town Road Fund Policy\n12. Discuss and act on Charter Revision Commission resolution\n13. Discuss and act on adding Charter Revision Commission member\n14. Discuss and first reading of proposed Anti-Blight Ordinance\n15. Discuss modifications to Ordinance 134 concerning Building Permits\n16. Discuss modifications to Ordinance 120 concerning Obstruction of Sidewalks\n17. Discussion on Veteran Tax Exemption Proposal and Additional Land Provision\n18. Discuss and act on request for payout of donations per donation policy\n19. Discuss and act on adding new member to Open Space Committee\n\nSource: https://www.calendarwiz.com/calendars/popup.php?op=view&id=188733831&crd=plainfieldct
URL:https://plainfieldctdems.org/event/special-board-of-selectmen/
LOCATION:8 Community Ave, Plainfield, CT, United States
END:VEVENT
END:VCALENDAR