BEGIN:VCALENDAR
VERSION:2.0
PRODID:-//Plainfield Democratic Town Committee - ECPv6.15.18//NONSGML v1.0//EN
CALSCALE:GREGORIAN
METHOD:PUBLISH
X-ORIGINAL-URL:https://plainfieldctdems.org
X-WR-CALDESC:Events for Plainfield Democratic Town Committee
REFRESH-INTERVAL;VALUE=DURATION:PT1H
X-Robots-Tag:noindex
X-PUBLISHED-TTL:PT1H
BEGIN:VTIMEZONE
TZID:America/New_York
BEGIN:DAYLIGHT
TZOFFSETFROM:-0500
TZOFFSETTO:-0400
TZNAME:EDT
DTSTART:20240310T070000
END:DAYLIGHT
BEGIN:STANDARD
TZOFFSETFROM:-0400
TZOFFSETTO:-0500
TZNAME:EST
DTSTART:20241103T060000
END:STANDARD
BEGIN:DAYLIGHT
TZOFFSETFROM:-0500
TZOFFSETTO:-0400
TZNAME:EDT
DTSTART:20250309T070000
END:DAYLIGHT
BEGIN:STANDARD
TZOFFSETFROM:-0400
TZOFFSETTO:-0500
TZNAME:EST
DTSTART:20251102T060000
END:STANDARD
BEGIN:DAYLIGHT
TZOFFSETFROM:-0500
TZOFFSETTO:-0400
TZNAME:EDT
DTSTART:20260308T070000
END:DAYLIGHT
BEGIN:STANDARD
TZOFFSETFROM:-0400
TZOFFSETTO:-0500
TZNAME:EST
DTSTART:20261101T060000
END:STANDARD
END:VTIMEZONE
BEGIN:VEVENT
DTSTART;TZID=America/New_York:20250913T080000
DTEND;TZID=America/New_York:20250913T160000
DTSTAMP:20260422T053944
CREATED:20250804T005234Z
LAST-MODIFIED:20250804T005234Z
UID:7305-1757750400-1757779200@plainfieldctdems.org
SUMMARY:Moosup Village Yard Sale & PDTC Bake Sale Fundraiser
DESCRIPTION:The Moosup Village-wide Yard Sale will take place on Saturday\, September 13\, 2025\, beginning at 8:00 AM. This is a well-attended community event\, and based on past years\, shoppers are active and walking the neighborhood right at the start. If you’re planning to participate\, early arrival is recommended. \nThe Plainfield Democratic Town Committee will be hosting a bake sale as part of the event. This fundraiser helps support our local efforts for the 2025 election season. Baked goods have always been strong sellers at past events\, with many items gone before noon. If you’d like to stop by\, we suggest coming early in the day while supplies last. \nThanks to campaign finance exemptions for events like this\, donors supporting the bake sale do not need to complete a full contribution form. A basic record of donations will be maintained on-site. \nWe encourage residents and supporters to visit our table\, enjoy the day\, and help us continue the work we’re doing across Plainfield. Every item purchased helps us fund outreach\, materials\, and events in the months ahead.
URL:https://plainfieldctdems.org/event/moosup-village-yard-sale-pdtc-bake-sale-fundraiser/
LOCATION:Moosup Village Center\, Main Street\, Plainfield\, CT\, 06354
ORGANIZER;CN="Plainfield Democratic Town Committee":MAILTO:info@plainfieldctdems.org
END:VEVENT
BEGIN:VEVENT
DTSTART;TZID=America/New_York:20250913T100000
DTEND;TZID=America/New_York:20250913T150000
DTSTAMP:20260422T053944
CREATED:20250804T005414Z
LAST-MODIFIED:20250804T005414Z
UID:7308-1757757600-1757775600@plainfieldctdems.org
SUMMARY:Plainfield Business Association Town Hall – September 2025
DESCRIPTION:The Plainfield Business Association will hold its public Town Hall on Saturday\, September 13\, 2025\, from 10:00 AM to 3:00 PM. This event provides local business owners\, residents\, and stakeholders the opportunity to hear updates from the PBA\, discuss current economic initiatives\, and engage directly with community leaders and presenters. \nThis is an open forum intended to support collaboration\, transparency\, and business development within the Plainfield region. All interested members of the public are welcome to attend. \nRepresentatives from the Plainfield Democratic Town Committee will also be present with an information table during the event.
URL:https://plainfieldctdems.org/event/plainfield-business-association-town-hall-september-2025/
LOCATION:Plainfield Town Hall\, 8 Community Ave\, Plainfield\, CT\, United States
END:VEVENT
END:VCALENDAR