BEGIN:VCALENDAR
VERSION:2.0
PRODID:-//Plainfield Democratic Town Committee - ECPv6.15.18//NONSGML v1.0//EN
CALSCALE:GREGORIAN
METHOD:PUBLISH
X-ORIGINAL-URL:https://plainfieldctdems.org
X-WR-CALDESC:Events for Plainfield Democratic Town Committee
REFRESH-INTERVAL;VALUE=DURATION:PT1H
X-Robots-Tag:noindex
X-PUBLISHED-TTL:PT1H
BEGIN:VTIMEZONE
TZID:America/New_York
BEGIN:DAYLIGHT
TZOFFSETFROM:-0500
TZOFFSETTO:-0400
TZNAME:EDT
DTSTART:20240310T070000
END:DAYLIGHT
BEGIN:STANDARD
TZOFFSETFROM:-0400
TZOFFSETTO:-0500
TZNAME:EST
DTSTART:20241103T060000
END:STANDARD
BEGIN:DAYLIGHT
TZOFFSETFROM:-0500
TZOFFSETTO:-0400
TZNAME:EDT
DTSTART:20250309T070000
END:DAYLIGHT
BEGIN:STANDARD
TZOFFSETFROM:-0400
TZOFFSETTO:-0500
TZNAME:EST
DTSTART:20251102T060000
END:STANDARD
BEGIN:DAYLIGHT
TZOFFSETFROM:-0500
TZOFFSETTO:-0400
TZNAME:EDT
DTSTART:20260308T070000
END:DAYLIGHT
BEGIN:STANDARD
TZOFFSETFROM:-0400
TZOFFSETTO:-0500
TZNAME:EST
DTSTART:20261101T060000
END:STANDARD
END:VTIMEZONE
BEGIN:VEVENT
DTSTART;TZID=America/New_York:20250806T180000
DTEND;TZID=America/New_York:20250806T193000
DTSTAMP:20260422T091516
CREATED:20250804T011737Z
LAST-MODIFIED:20250804T012009Z
UID:7311-1754503200-1754508600@plainfieldctdems.org
SUMMARY:Concerts in the Park – Red Light
DESCRIPTION:Red Light is known across Eastern Connecticut for high-energy performances and a crowd-pleasing mix of modern rock\, pop\, and classic favorites. They bring a polished live sound and an engaging stage presence to every show\, making them one of the most requested live acts in the region. \nThey’ll be performing at Lion’s Park on Wednesday\, August 6 from 6:00 PM to 7:30 PM as part of the weekly Concerts in the Park series organized by the Plainfield Recreation Department and Senior Center. These free Wednesday night concerts are a longstanding community tradition\, bringing residents together throughout the summer for live music in a relaxed\, family-friendly setting. \nRed Light’s setlist spans several decades\, making it accessible to longtime music fans and first-time concertgoers alike. From upbeat covers to recognizable sing-alongs\, they deliver a show built for a wide audience. This performance opens the August lineup and is expected to draw a strong turnout. \nAdmission is free and open to the public. Attendees are encouraged to bring a chair or blanket and enjoy the concert with friends\, neighbors\, and guests. Concerts begin promptly\, and space fills quickly—early arrival is recommended.
URL:https://plainfieldctdems.org/event/concerts-in-the-park-red-light/
LOCATION:Plainfield Town Hall\, 8 Community Ave\, Plainfield\, CT\, United States
CATEGORIES:Recreation Events
END:VEVENT
BEGIN:VEVENT
DTSTART;TZID=America/New_York:20250810T130000
DTEND;TZID=America/New_York:20250810T150000
DTSTAMP:20260422T091516
CREATED:20250804T004413Z
LAST-MODIFIED:20250804T004432Z
UID:7297-1754830800-1754838000@plainfieldctdems.org
SUMMARY:VJ Day Parade 2025
DESCRIPTION:The 64th Annual VJ Day Parade will take place in Moosup\, Connecticut on Sunday\, August 10\, 2025\, with step-off scheduled for 1:01 PM. This longstanding event honors those who have served in the United States Armed Forces and continues to be an important tradition in eastern Connecticut. \nThis year’s parade is held in remembrance of Arthur “Archie” Lapierre\, a United States Army veteran and lifelong member of American Legion Post 91. His contributions to both the local veteran community and the town of Plainfield will be recognized throughout the event. \nThe 2025 theme is “Remembering Those Who Served and are Still Serving.” The parade will feature veterans from multiple generations\, military representatives\, local organizations\, and community groups. \nNotable honorees this year include: \n\nParade Marshal Joseph Caminiti\, USMC\, World War II veteran and Iwo Jima survivor\nGrand Marshal Brigadier General Ron Welch\, United States Army (Ret.)\, Commissioner of the Connecticut Department of Veterans Affairs\n\nThe Plainfield Democratic Town Committee will be live streaming the entire parade for those unable to attend in person. \nStreaming will be available on the following platforms: \nFacebook:\nhttps://www.facebook.com/PlainfieldDems \nYouTube:\nhttps://www.youtube.com/@plainfieldctdems
URL:https://plainfieldctdems.org/event/7297/
LOCATION:Downtown Moosup Village\, Intersection of Prospect Street and Main Street\, Moosup\, CT\, 06354
CATEGORIES:Community Events
END:VEVENT
BEGIN:VEVENT
DTSTART;TZID=America/New_York:20250813T180000
DTEND;TZID=America/New_York:20250813T193000
DTSTAMP:20260422T091516
CREATED:20250804T011843Z
LAST-MODIFIED:20250804T011843Z
UID:7314-1755108000-1755113400@plainfieldctdems.org
SUMMARY:Concerts in the Park – 60s Explosion Show
DESCRIPTION:The 60s Explosion Show returns to Lion’s Park on Wednesday\, August 13\, bringing a full evening of music from one of the most iconic decades in American history. This performance is part of the Plainfield Recreation Department’s summer Concerts in the Park series\, now in its August stretch of live outdoor shows held weekly at the park. \nKnown for their tight vocals\, stage chemistry\, and spot-on renditions of ‘60s favorites\, the 60s Explosion Show delivers a performance that resonates across generations. The band covers hits from Motown to British Invasion to classic American rock\, all brought to life with care and authenticity. \nThese concerts are free and open to the public. They offer a place for families\, longtime residents\, and visitors to enjoy quality live music in a welcoming setting. Attendees are encouraged to bring lawn chairs or blankets and arrive early to find a good spot. Music begins at 6:00 PM and wraps by 7:30 PM.
URL:https://plainfieldctdems.org/event/concerts-in-the-park-60s-explosion-show/
LOCATION:Plainfield Town Hall\, 8 Community Ave\, Plainfield\, CT\, United States
CATEGORIES:Recreation Events
END:VEVENT
BEGIN:VEVENT
DTSTART;TZID=America/New_York:20250819T180000
DTEND;TZID=America/New_York:20250819T193000
DTSTAMP:20260422T091516
CREATED:20250804T004737Z
LAST-MODIFIED:20250804T004737Z
UID:7302-1755626400-1755631800@plainfieldctdems.org
SUMMARY:DTC Monthly Meeting
DESCRIPTION:The Plainfield Democratic Town Committee will hold its regular monthly meeting on Tuesday\, August 19 at 6:00 PM at the American Legion in Moosup. \nAll registered Democrats in Plainfield are encouraged to attend. These meetings are where we share updates\, discuss local events\, review town and party matters\, and plan for upcoming efforts. Registered DTC members and invited guests may ask questions and take part in discussions. \nThis is an open opportunity to stay informed and involved. Whether you’ve attended before or are considering joining the committee in the future\, your voice matters and your participation is welcome. \nWe look forward to seeing you there.
URL:https://plainfieldctdems.org/event/dtc-monthly-meeting/
LOCATION:American Legion\, 66 Prospect Street\, Moosup\, CT\, 06354
CATEGORIES:DTC Event
ORGANIZER;CN="Plainfield Democratic Town Committee":MAILTO:info@plainfieldctdems.org
END:VEVENT
BEGIN:VEVENT
DTSTART;TZID=America/New_York:20250820T180000
DTEND;TZID=America/New_York:20250820T193000
DTSTAMP:20260422T091516
CREATED:20250804T011928Z
LAST-MODIFIED:20250804T011928Z
UID:7316-1755712800-1755718200@plainfieldctdems.org
SUMMARY:Concerts in the Park – Heartland
DESCRIPTION:Heartland will close out the 2025 Concerts in the Park season on Wednesday\, August 20 with a live performance at Lion’s Park. Hosted by the Plainfield Recreation Department and Senior Center\, this final summer concert wraps up a season of weekly community gatherings and strong local turnout. \nHeartland blends country\, Americana\, and roots rock into a setlist that appeals to a wide audience. Their music draws from both current country radio and classic storytelling traditions\, offering something familiar and something new. It’s a sound that fits perfectly in an outdoor park setting and connects with people looking for a relaxed\, end-of-summer evening. \nAs with all concerts in the series\, admission is free. Music starts at 6:00 PM and ends by 7:30 PM. Bring a lawn chair or blanket\, arrive early\, and help us send off this year’s summer lineup with a strong finish.
URL:https://plainfieldctdems.org/event/concerts-in-the-park-heartland/
LOCATION:Plainfield Town Hall\, 8 Community Ave\, Plainfield\, CT\, United States
CATEGORIES:Recreation Events
END:VEVENT
END:VCALENDAR